BEGIN:VCALENDAR
VERSION:2.0
PRODID:-//hacksw/handcal//NONSGML v1.0//EN
BEGIN:VEVENT
SUMMARY:La Mag - Equipe U13 M1 - BC BALGENCIEN
UID:2312e63c-82b2-4bab-973c-5c18cf4f27c9
DTSTART:20260207T121500Z
DTEND:20260207T143000Z
LOCATION:Localisation gymnase du college Nelson Mandela  Saint Ay
CATEGORIES:Sportif
STATUS:
DESCRIPTION:<p>Match a domicile mais attention celui-ci aura lieu au
 gymnase du college Nelson Mandela de Saint Ay, rdv au gymnase La
 Belle Jeunesse a 13h00 pour le co-voiturage ou rdv au gymnase de
 Saint Ay a 13H15 pour l'echauffement</p>
URL;VALUE=URI:https://www.lamagdunoisebasket.com/evenements/2026/02/07/la-mag-equipe-u13-m1-bc-balgencien-2407806
END:VEVENT
END:VCALENDAR
